BEGIN:VCALENDAR
VERSION:2.0
PRODID:-//Eventin//Event Calendar//EN
CALSCALE:GREGORIAN
METHOD:PUBLISH
BEGIN:VEVENT
UID:dd7702be174a400e7c8e98dc505bb7af@viadelarte.org
SUMMARY:EPIFANÍAS DE CRISTO EN LAS IGLESIAS DE MIGUEL FISAC con Carmen Par
 do de Santayana
DESCRIPTION: ¿Por qué muchos se sienten perplejos ante las iglesias cont
 emporáneas? ¿Podemos encontrar belleza en ellas? La ponente parte de esta
 s preguntas para explicar las iglesias de uno de los arquitectos españoles
  más relevantes del siglo XX: Miguel Fisac.\n \nSi eres estudiante y meno
 r de 30 años introduce la palabra estudiante y te haremos un descuento d
 el 50 por ciento.\nVALOR ENTRADA ANTICIPADA: – la venta de estos tickets 
 estará disponible hasta las 18.30hs del día del evento-General: 10€Estu
 diante: 5€VALOR ENTRADA EN PUERTA:General: 15€Estudiante: 8€\nEste ev
 ento será fotografiado\, filmado y transmitido por YouTube\, al asistir da
 s tu consentimiento para el tratamiento y uso de tu imagen\, para más info
 rmación puedes consultar este documento.
LOCATION:Estudio Javier Viver (c/doña Berenguela 7\, 28011 Madrid)
DTSTAMP:20260424T034030Z
DTSTART:20260424T180000Z
DTEND:20260424T200000Z
END:VEVENT
END:VCALENDAR
